Workbook

Sheet Notes&Single key
A1: TC | B1: =17.2/1000000000 -> 1.72e-08 | D1: Empty system – 17.2ns = 17.2pF
A2: Res | B2: 1000 | G2: 17.2
A3: Cap, pF | B3: =B1/B2*1000000000000 -> 17.2 | D3: Trigger voltage: 3.16V (63.2% of 5V)
C5: Drive by bottom | H5: Drive by top
C6: Pressed | E6: Released | G6: Note | H6: Pressed | J6: Released
A7: Single key on 0.8mm FR4: | C7: From zero | D7: From first peak | E7: From zero | F7: From first peak | H7: From zero | I7: From first peak | J7: From zero | K7: From first peak
A8: Standard IBM layout | C8: 22.2 | E8: 19.8 | G8: ideal | H8: 22.3 | J8: 19.8 | L8: ideal
A9: “mems accelerometer” | C9: 25 | E9: 24.1 | G9: ideal | H9: 24.6 | J9: 24 | L9: ideal
A10: “grid over ground” | C10: 25 | E10: 23.9 | G10: ideal | H10: 24.8 | J10: 23.7 | L10: ideal
A12: Scope capacitance adjusted out:
A13: Standard IBM layout | C13: =C8-$G$2 -> 5 | E13: =E8-$G$2 -> 2.6 | H13: =H8-$G$2 -> 5.1 | J13: =J8-$G$2 -> 2.6
A14: “mems accelerometer” | C14: =C9-$G$2 -> 7.8 | E14: =E9-$G$2 -> 6.9 | H14: =H9-$G$2 -> 7.4 | J14: =J9-$G$2 -> 6.8
A15: “grid over ground” | C15: =C10-$G$2 -> 7.8 | E15: =E10-$G$2 -> 6.7 | H15: =H10-$G$2 -> 7.6 | J15: =J10-$G$2 -> 6.5

Sheet FSSK bare
A1: FSSK, bare PCB(0.6mm), laying on the table. Lifting to air _decreases_ GND to R8 capacitance by ~6pF! | J1: Drive by column | O1: Drive by row
B2: All keys up | D2: All keys down | J2: Pressed | L2: Released | N2: Note | O2: Pressed | Q2: Released
B3: From zero | C3: From first peak | D3: From zero | E3: From first peak | J3: From zero | K3: From first peak | L3: From zero | M3: From first peak | O3: From zero | P3: From first peak | Q3: From zero | R3: From first peak
A4: GND to R1 | B4: 62 | C4: 57 | D4: NOTE: R1-R8 _might_ be mirrored vs encased! | I4: Esc | J4: 45 | K4: 40 | L4: 43 | M4: 39 | N4: (no drop) | O4: 48 | P4: 43 | Q4: 47 | R4: 41
A5: GND to R2 | B5: 63 | C5: 57 | I5: LCtrl | J5: 46 | K5: 41 | L5: 44 | M5: 49 | N5: (no drop) | O5: 52 | P5: 47 | Q5: 49 | R5: 44
A6: GND to R3 | B6: 63 | C6: 56 | I6: → | J6: 45 | K6: 40 | L6: 42 | M6: 37 | N6: (no drop) | O6: 51 | P6: 46 | Q6: 49 | R6: 44
A7: GND to R4 | B7: 63 | C7: 57 | I7: Pause | J7: 43 | K7: 38 | L7: 41 | M7: 36 | N7: (no drop) | O7: 48 | P7: 42 | Q7: 46 | R7: 40
A8: GND to R5 | B8: 63 | C8: 57
A9: GND to R6 | B9: 63 | C9: 58
A10: GND to R7 | B10: 76 | C10: 69
A11: GND to R8 | B11: 65 | C11: 58
A13: GND to C1 | B13: 56 | C13: 51
A14: GND to C2 | B14: 53 | C14: 48
A15: GND to C3 | B15: 53 | C15: 48
A16: GND to C4 | B16: 48 | C16: 43 | D16: (almost no drop!)
A17: GND to C5 | B17: 46 | C17: 41 | D17: (no drop!)
A18: GND to C6 | B18: 44 | C18: 38 | D18: (no drop!)
A19: GND to C7 | B19: 42 | C19: 37 | D19: (no drop!)
A20: GND to C8 | B20: 44 | C20: 38 | D20: (no drop!)
A21: GND to C9 | B21: 46 | C21: 41 | D21: (no drop!)
A22: GND to C10 | B22: 49 | C22: 44 | D22: (no drop!)
A23: GND to C11 | B23: 52 | C23: 47 | D23: (no drop!)
A24: GND to C12 | B24: 49 | C24: 44 | D24: (no drop!)
A26: R1 to R2 | B26: 48 | C26: 42
A27: R1 to R3 | B27: 46 | C27: 40
A28: R1 to R4 | B28: 46 | C28: 41
A29: R1 to R5 | B29: 46 | C29: 40
A30: R1 to R6 | B30: 46 | C30: 40
A31: R1 to R7 | B31: 48 | C31: 42
A32: R1 to R8 | B32: 48 | C32: 42
A34: R8 to R4 | B34: 48 | C34: 42
A36: C1 to C2 | B36: 42 | C36: 36 | D36: (no drop!)
A37: C1 to C3 | B37: 41 | C37: 36 | D37: (no drop!)
A38: C1 to C4 | B38: 39 | C38: 34 | D38: (no drop!)
A39: C1 to C5 | B39: 38 | C39: 32 | D39: (no drop!)
A40: C1 to C6 | B40: 39 | C40: 35 | D40: 33 | E40: 28 | F40: (jumpy, no drop, more 39)
A41: C1 to C7 | B41: 38 | C41: 32 | D41: 31 | E41: 28 | F41: (jumpy, no drop, more 31)
A42: C1 to C8 | B42: 37 | C42: 32 | D42: 32 | E42: 28 | F42: (jumpy, no drop, more 31)
A43: C1 to C9 | B43: 39 | C43: 35 | D43: (no drop!)
A44: C1 to C10 | B44: 40 | C44: 35 | D44: (no drop!)
...

Sheet FSSK encased
A1: FSSK, encased, keys pulled out, held vertical to lift all the keys, on the table to press all the keys. | J1: Drive by column | N1: Drive by row
B2: All keys up | D2: All keys down | J2: Pressed | L2: Released | N2: Pressed | P2: Released
B3: From zero | C3: From first peak | D3: From zero | E3: From first peak | J3: From zero | K3: From first peak | L3: From zero | M3: From first peak | N3: From zero | O3: From first peak | P3: From zero | Q3: From first peak
A4: GND to R1 | B4: 118 | C4: 112 | D4: 148 | E4: 142 | I4: Esc | J4: 72 | K4: 66 | L4: 68 | M4: 63 | N4: 73 | O4: 66 | P4: 67 | Q4: 61
A5: GND to R2 | B5: 122 | C5: 116 | D5: 155 | E5: 148 | I5: LCtrl | J5: 71 | K5: 67 | L5: 67 | M5: 62 | N5: 72 | O5: 68 | P5: 68 | Q5: 63
A6: GND to R3 | B6: 112 | C6: 105 | D6: 144 | E6: 138 | I6: → | J6: 66 | K6: 60 | L6: 62 | M6: 57
A7: GND to R4 | B7: 109 | C7: 103 | D7: 146 | E7: 140 | I7: Pause | J7: 66 | K7: 61 | L7: 63 | M7: 57
A8: GND to R5 | B8: 117 | C8: 110 | D8: 149 | E8: 143
A9: GND to R6 | B9: 102 | C9: 96 | D9: 132 | E9: 125
A10: GND to R7 | B10: 114 | C10: 106 | D10: 147 | E10: 141
A11: GND to R8 | B11: 114 | C11: 108 | D11: 150 | E11: 144
A13: GND to C1 | B13: 108 | C13: 102 | D13: 121 | E13: 115
A14: GND to C2 | B14: 110 | C14: 105 | D14: 127 | E14: 120
A15: GND to C3 | B15: 105 | C15: 98 | D15: 122 | E15: 116
A16: GND to C4 | B16: 103 | C16: 96 | D16: 121 | E16: 115
A17: GND to C5 | B17: 99 | C17: 93 | D17: 117 | E17: 111
A18: GND to C6 | B18: 93 | C18: 87 | D18: 104 | E18: 96
A19: GND to C7 | B19: 88 | C19: 81 | D19: 103 | E19: 97
A20: GND to C8 | B20: 96 | C20: 91 | D20: 116 | E20: 110
... A23: GND to C11 | B23: 100 | C23: 94 | D23: 117 | E23: 111
A24: GND to C12 | B24: 94 | C24: 88 | D24: 104 | E24: 97 | F24: (all other columns and rows floated. (Grounded is the same))
A26: R1 to R2 | B26: 78 | C26: 72 | D26: 93 | E26: 87
A27: R1 to R3 | B27: 69 | C27: 63 | D27: 89 | E27: 83
A28: R1 to R4 | B28: 66 | C28: 61 | D28: 90 | E28: 84
A29: R1 to R5 | B29: 71 | C29: 65 | D29: 92 | E29: 85
A30: R1 to R6 | B30: 65 | C30: 59 | D30: 83 | E30: 77
A31: R1 to R7 | B31: 68 | C31: 62 | D31: 92 | E31: 85
A32: R1 to R8 | B32: 68 | C32: 63 | D32: 92 | E32: 85
A34: R8 to R4 | B34: 67 | C34: 62 | D34: 91 | E34: 86
A36: C1 to C2 | B36: 68 | C36: 63 | D36: 79 | E36: 73
A37: C1 to C3 | B37: 66 | C37: 61 | D37: 76 | E37: 71
A38: C1 to C4 | B38: 65 | C38: 60 | D38: 76 | E38: 70
A39: C1 to C5 | B39: 65 | C39: 59 | D39: 75 | E39: 68
... A48: C12 to C6 | B48: 58 | C48: 53 | D48: 66 | E48: 61

Sheet ESSK bare
A1: ESSK, bare PCB, laying on the table. Lifting to air increases GND to R8 capacitance by ~1pF. | J1: Drive by column | N1: Drive by row
B2: All keys up | D2: All keys down | J2: Pressed | L2: Released | N2: Pressed | P2: Released
B3: From zero | C3: From first peak | D3: From zero | E3: From first peak | J3: From zero | K3: From first peak | L3: From zero | M3: From first peak | N3: From zero | O3: From first peak | P3: From zero | Q3: From first peak
A4: GND to R1 | B4: 146 | C4: 140 | I4: Esc | J4: 76 | K4: 71 | L4: 71 | M4: 64 | N4: 80 | O4: 75 | P4: 75 | Q4: 70
A5: GND to R2 | B5: 160 | C5: 153 | I5: LCtrl | J5: 77 | K5: 71 | L5: 71 | M5: 65 | N5: 85 | O5: 79 | P5: 78 | Q5: 72
A6: GND to R3 | B6: 138 | C6: 132 | I6: → | J6: 76 | K6: 69 | L6: 67 | M6: 62 | N6: 85 | O6: 79 | P6: 79 | Q6: 73
A7: GND to R4 | B7: 156 | C7: 151 | I7: Pause | J7: 74 | K7: 68 | L7: 67 | M7: 61 | N7: 82 | O7: 76 | P7: 77 | Q7: 71
A8: GND to R5 | B8: 147 | C8: 141
A9: GND to R6 | B9: 145 | C9: 140
A10: GND to R7 | B10: 162 | C10: 156
A11: GND to R8 | B11: 164 | C11: 158
A13: GND to C1 | B13: 96 | C13: 90
A14: GND to C2 | B14: 100 | C14: 95
A15: GND to C3 | B15: 101 | C15: 95
A16: GND to C4 | B16: 97 | C16: 91
A17: GND to C5 | B17: 88 | C17: 81
A18: GND to C6 | B18: 88 | C18: 81
A19: GND to C7 | B19: 95 | C19: 89
A20: GND to C8 | B20: 97 | C20: 91
... A48: C12 to C6 | B48: 57 | C48: 53

Sheet ESSK encased
A1: ESSK, encased, keys pulled out, held vertical to lift all the keys, on the table to press all the keys. | J1: Drive by column | O1: Drive by row
B2: All keys up | D2: All keys down | J2: Pressed | L2: Released | O2: Pressed | Q2: Released
B3: From zero | C3: From first peak | D3: From zero | E3: From first peak | J3: From zero | K3: From first peak | L3: From zero | M3: From first peak | O3: From zero | P3: From first peak | Q3: From zero | R3: From first peak | T3: GND contrib
A4: GND to R1 | B4: 157 | C4: 151 | D4: 233 | E4: 227 | I4: Esc | J4: 86 | K4: 80 | L4: 75 | M4: 69 | O4: 92 | P4: 87 | Q4: 82 | R4: 76 | T4: =1/(1/$B$4+1/$B$13) -> 61.46124
A5: GND to R2 | B5: 164 | C5: 157 | D5: 250 | E5: 242 | I5: LCtrl | J5: 86 | K5: 79 | L5: 78 | M5: 71 | O5: 95 | P5: 89 | Q5: 85 | R5: 77 | T5: =1/(1/$B$11+1/$B$13) -> 63.218519
A6: GND to R3 | B6: 144 | C6: 137 | D6: 218 | E6: 211 | I6: → | J6: 78 | K6: 72 | L6: 73 | M6: 67 | O6: 88 | P6: 83 | Q6: 82 | R6: 76 | T6: =1/(1/$B$11+1/$B$24) -> 59.570881
A7: GND to R4 | B7: 161 | C7: 155 | D7: 253 | E7: 246 | I7: Pause | J7: 80 | K7: 74 | L7: 72 | M7: 67 | O7: 87 | P7: 82 | Q7: 80 | R7: 74 | T7: =1/(1/$B$4+1/$B$24) -> 58.008032
A8: GND to R5 | B8: 153 | C8: 146 | D8: 234 | E8: 226
A9: GND to R6 | B9: 149 | C9: 143 | D9: 226 | E9: 218
A10: GND to R7 | B10: 167 | C10: 161 | D10: 248 | E10: 241
A11: GND to R8 | B11: 169 | C11: 163 | D11: 228 | E11: 223
A13: GND to C1 | B13: 101 | C13: 94 | D13: 136 | E13: 128
A14: GND to C2 | B14: 105 | C14: 98 | D14: 167 | E14: 161
A15: GND to C3 | B15: 104 | C15: 98 | D15: 169 | E15: 162
A16: GND to C4 | B16: 101 | C16: 94 | D16: 157 | E16: 149
A17: GND to C5 | B17: 90 | C17: 83 | D17: 146 | E17: 139
A18: GND to C6 | B18: 90 | C18: 83 | D18: 142 | E18: 135
A19: GND to C7 | B19: 104 | C19: 98 | D19: 162 | E19: 156
A20: GND to C8 | B20: 101 | C20: 95 | D20: 171 | E20: 164
... A48: C12 to C6 | B48: 63 | C48: 57 | D48: 83 | E48: 77

Sheet XTant bare
A1: XTant, bare PCB(0.8mm), laying on the table. Lifting to air _decreases_ GND to R8 capacitance by ~4pF! | J1: Drive by column | O1: Drive by row
B2: All keys up | D2: All keys down | J2: Pressed | L2: Released | N2: Note | O2: Pressed | Q2: Released
B3: From zero | C3: From first peak | D3: From zero | E3: From first peak | J3: From zero | K3: From first peak | L3: From zero | M3: From first peak | O3: From zero | P3: From first peak | Q3: From zero | R3: From first peak
A4: GND to R1 | B4: 77 | C4: 70 | I4: R1C1 | J4: 48 | K4: 42 | L4: 44 | M4: 38 | N4: (no drop) | O4: 45 | P4: 40 | Q4: 43 | R4: 38 | S4: (no drop)
A5: GND to R2 | B5: 73 | C5: 67 | I5: R1C12 | J5: 42 | K5: 36 | L5: 41 | M5: 35 | N5: (p.slope) | O5: 45 | P5: 40 | Q5: 41 | R5: 38 | S5: (no drop)
A6: GND to R3 | B6: 70 | C6: 63 | I6: R8C1 | J6: 48 | K6: 42 | L6: 46 | M6: 40 | N6: (no drop) | O6: 57 | P6: 51 | Q6: 54 | R6: 48
A7: GND to R4 | B7: 73 | C7: 68 | I7: R8C12 | J7: 42 | K7: 36 | L7: 41 | M7: 35 | N7: (p.slope) | O7: 53 | P7: 47 | Q7: 47 | R7: 42 | S7: (almost no drop)
A8: GND to R5 | B8: 70 | C8: 64
A9: GND to R6 | B9: 69 | C9: 63 | D9: (jumpy)
A10: GND to R7 | B10: 59 | C10: 54
A11: GND to R8 | B11: 58 | C11: 53
A13: GND to C1 | B13: 61 | C13: 56
A14: GND to C2 | B14: 59 | C14: 53
A15: GND to C3 | B15: 58 | C15: 52
A16: GND to C4 | B16: 55 | C16: 48 | D16: (almost no drop)
A17: GND to C5 | B17: 48 | C17: 40 | D17: (no drop)
A18: GND to C6 | B18: 48 | C18: 42 | D18: (no drop, bit jumpy)
A19: GND to C7 | B19: 44 | C19: 39 | D19: (no drop)
A20: GND to C8 | B20: 42 | C20: 36 | D20: (pos. slope)
A21: GND to C9 | B21: 45 | C21: 37 | D21: (pos. slope)
A22: GND to C10 | B22: 41 | C22: 35 | D22: (pos. slope)
A23: GND to C11 | B23: 44 | C23: 38 | D23: (no drop)
A24: GND to C12 | B24: 47 | C24: 41 | D24: (no drop)
A26: R1 to R2 | B26: 58 | C26: 53 | D26: (jumpy)
A27: R1 to R3 | B27: 48 | C27: 42
A28: R1 to R4 | B28: 50 | C28: 44
A29: R1 to R5 | B29: 48 | C29: 42
A30: R1 to R6 | B30: 48 | C30: 42
A31: R1 to R7 | B31: 48 | C31: 42
A32: R1 to R8 | B32: 44 | C32: 39 | D32: (no drop)
A34: R8 to R4 | B34: 44 | C34: 38 | D34: (no drop)
A36: C1 to C2 | B36: 45 | C36: 40 | E36: (all no drop)
A37: C1 to C3 | B37: 43 | C37: 38
A38: C1 to C4 | B38: 42 | C38: 37 | D38: (pos. slope)
A39: C1 to C5 | B39: 41 | C39: 35 | D39: (pos. slope)
A40: C1 to C6 | B40: 40 | C40: 36 | D40: (pos. slope)
A41: C1 to C7 | B41: 39 | C41: 35 | D41: (pos. slope)
A42: C1 to C8 | B42: 37 | D42: (ideal)
A43: C1 to C9 | B43: 40 | C43: 36 | D43: (pos. slope)
A44: C1 to C10 | B44: 36 | D44: (ideal)
...

Sheet F122 on ground
A1: Original F122 PCB(0.9mm), on aluminum foil ground plane with stock insulator | J1: Drive by column | O1: Drive by row
B2: All keys up | D2: All keys down | J2: Pressed | L2: Released | N2: Note | O2: Pressed | Q2: Released
B3: From zero | C3: From first peak | D3: From zero | E3: From first peak | J3: From zero | K3: From first peak | L3: From zero | M3: From first peak | O3: From zero | P3: From first peak | Q3: From zero | R3: From first peak
A4: GND to R1 | B4: 129 | C4: 123 | I4: R1C4 | J4: 89 | K4: 83 | L4: 87 | M4: 81 | O4: 87 | P4: 83 | Q4: 85 | R4: 80
A5: GND to R2 | B5: 135 | C5: 129 | I5: R1C16 | J5: 77 | K5: 73 | L5: 75 | M5: 70 | O5: 81 | P5: 75 | Q5: 76 | R5: 71 | S5: (jumpy AF)
A6: GND to R3 | B6: 138 | C6: 131 | I6: R8C4 | J6: 97 | K6: 92 | L6: 93 | M6: 87 | O6: 101 | P6: 96 | Q6: 98 | R6: 92
A7: GND to R4 | B7: 138 | C7: 132 | I7: R8C16 | J7: 96 | K7: 90 | L7: 90 | M7: 86 | O7: 103 | P7: 97 | Q7: 99 | R7: 94 | S7: (jumpy)
A8: GND to R5 | B8: 150 | C8: 143
A9: GND to R6 | B9: 149 | C9: 143
A10: GND to R7 | B10: 153 | C10: 146
A11: GND to R8 | B11: 175 | C11: 169
A13: GND to C1 | B13: 129 | C13: 123
A14: GND to C2 | B14: 148 | C14: 142
A15: GND to C3 | B15: 142 | C15: 137 | D15: (jumpy)
A16: GND to C4 | B16: 145 | C16: 138 | D16: (jumpy)
A17: GND to C5 | B17: 133 | C17: 127
A18: GND to C6 | B18: 133 | C18: 127
A19: GND to C7 | B19: 129 | C19: 123
A20: GND to C8 | B20: 139 | C20: 131 | D20: (jumpy)
A21: GND to C9 | B21: 136 | C21: 129
A22: GND to C10 | B22: 171 | C22: 165 | D22: (jumpy)
A23: GND to C11 | B23: 158 | C23: 152 | D23: (jumpy)
A24: GND to C12 | B24: 197 | C24: 190
A25: GND to C13 | B25: 175 | C25: 169
A26: GND to C14 | B26: 130 | C26: 122
A27: GND to C15 | B27: 105 | C27: 99
A28: GND to C16 | B28: 99 | C28: 93
A31: R1 to R2 | B31: 88 | C31: 82
A32: R1 to R3 | B32: 86 | C32: 81
A33: R1 to R4 | B33: 87 | C33: 81
A34: R1 to R5 | B34: 89 | C34: 83
A35: R1 to R6 | B35: 89 | C35: 83
A36: R1 to R7 | B36: 89 | C36: 83
A37: R1 to R8 | B37: 96 | C37: 89
... A48: C1 to C9 | B48: 100 | C48: 94
A49: C1 to C10 | B49: 97 | C49: 91 | D49: (jumpy)
A50: C1 to C11 | B50: 113 | C50: 107 | D50: (jumpy)
A51: C1 to C12 | B51: 103 | C51: 95
A52: C1 to C13 | B52: 102 | C52: 95
A53: C1 to C14 | B53: 87 | C53: 81
...

Sheet F122 bare
A1: Original F122 PCB(0.9mm), laying on the table. Lifting to air decreases GND to R8 capacitance by ~3pF. | J1: Drive by column | O1: Drive by row
B2: All keys up | D2: All keys down | J2: Pressed | L2: Released | N2: Note | O2: Pressed | Q2: Released
B3: From zero | C3: From first peak | D3: From zero | E3: From first peak | J3: From zero | K3: From first peak | L3: From zero | M3: From first peak | O3: From zero | P3: From first peak | Q3: From zero | R3: From first peak
A4: GND to R1 | B4: 77 | C4: 71 | I4: R1C4 | J4: 43 | K4: 39 | L4: 42 | M4: 37 | N4: flat | O4: 55 | P4: 50 | Q4: 52 | R4: 47 | S4: jumpy
A5: GND to R2 | B5: 77 | C5: 71 | I5: R1C16 | J5: 59 | K5: 54 | L5: 57 | M5: 52 | O5: 61 | P5: 56 | Q5: 59 | R5: 53 | S5: lil jumpy
A6: GND to R3 | B6: 81 | C6: 76 | I6: R8C4 | J6: 46 | K6: 41 | L6: 44 | M6: 39 | N6: flat | O6: 56 | P6: 50 | Q6: 53 | R6: 48 | S6: lil jumpy
A7: GND to R4 | B7: 87 | C7: 80 | I7: R8C16 | J7: 58 | K7: 53 | L7: 56 | M7: 52 | O7: 68 | P7: 63 | Q7: 65 | R7: 60 | S7: lil jumpy
A8: GND to R5 | B8: 96 | C8: 89
A9: GND to R6 | B9: 97 | C9: 90
A10: GND to R7 | B10: 98 | C10: 91
A11: GND to R8 | B11: 98 | C11: 91
A13: GND to C1 | B13: 52 | C13: 45 | D13: flat, jumpy
A14: GND to C2 | B14: 48 | C14: 42
A15: GND to C3 | B15: 46 | C15: 41
A16: GND to C4 | B16: 48 | C16: 43
A17: GND to C5 | B17: 47 | C17: 42
A18: GND to C6 | B18: 53 | C18: 48
A19: GND to C7 | B19: 49 | C19: 43
A20: GND to C8 | B20: 59 | C20: 53
A21: GND to C9 | B21: 53 | C21: 48 | D21: flat, jumpy
A22: GND to C10 | B22: 57 | C22: 52 | D22: flat, jumpy
A23: GND to C11 | B23: 56 | C23: 51
A24: GND to C12 | B24: 65 | C24: 59 | D24: jumpy
A25: GND to C13 | B25: 71 | C25: 66
A26: GND to C14 | B26: 73 | C26: 67
A27: GND to C15 | B27: 74 | C27: 69
A28: GND to C16 | B28: 79 | C28: 73 | D28: jumpy
A31: R1 to R2 | B31: 61 | C31: 56
A32: R1 to R3 | B32: 60 | C32: 55
A33: R1 to R4 | B33: 62 | C33: 57
A34: R1 to R5 | B34: 63 | C34: 57
A35: R1 to R6 | B35: 63 | C35: 57
A36: R1 to R7 | B36: 65 | C36: 59
A37: R1 to R8 | B37: 64 | C37: 59
A39: R8 to R4 | B39: 66 | C39: 60
A41: C1 to C2 | B41: 41 | C41: 36 | D41: flat
A42: C1 to C3 | B42: 39 | C42: 34 | D42: pos. slope
A43: C1 to C4 | B43: 40 | C43: 36 | D43: pos. slope
A44: C1 to C5 | B44: 40 | C44: 35 | D44: pos. slope
A45: C1 to C6 | B45: 42 | C45: 37 | D45: flat
...

Sheet ESSK encased clean
A1: ESSK, encased, scope capacitance removed | J1: Drive by column | N1: Drive by row | T1: Cscope | U1: 17
B2: All keys up | D2: All keys down | J2: Pressed | L2: Released | N2: Pressed | P2: Released
B3: From zero | C3: From first peak | D3: From zero | E3: From first peak | J3: From zero | K3: From first peak | L3: From zero | M3: From first peak | N3: From zero | O3: From first peak | P3: From zero | Q3: From first peak
A4: GND to R1 | B4: ='ESSK encased'!B4 - $U$1 -> 140 | C4: ='ESSK encased'!C4 - $U$1 -> 134 | D4: ='ESSK encased'!D4 - $U$1 -> 216 | E4: ='ESSK encased'!E4 - $U$1 -> 210 | I4: Esc | J4: ='ESSK encased'!J4 - $U$1 -> 69 | K4: ='ESSK encased'!K4 - $U$1 -> 63 | L4: ='ESSK encased'!L4 - $U$1 -> 58 | M4: ='ESSK encased'!M4 - $U$1 -> 52 | N4: ='ESSK encased'!O4 - $U$1 -> 75 | O4: ='ESSK encased'!P4 - $U$1 -> 70 | P4: ='ESSK encased'!Q4 - $U$1 -> 65 | Q4: ='ESSK encased'!R4 - $U$1 -> 59
A5: GND to R2 | B5: ='ESSK encased'!B5 - $U$1 -> 147 | C5: ='ESSK encased'!C5 - $U$1 -> 140 | D5: ='ESSK encased'!D5 - $U$1 -> 233 | E5: ='ESSK encased'!E5 - $U$1 -> 225 | I5: LCtrl | J5: ='ESSK encased'!J5 - $U$1 -> 69 | K5: ='ESSK encased'!K5 - $U$1 -> 62 | L5: ='ESSK encased'!L5 - $U$1 -> 61 | M5: ='ESSK encased'!M5 - $U$1 -> 54 | N5: ='ESSK encased'!O5 - $U$1 -> 78 | O5: ='ESSK encased'!P5 - $U$1 -> 72 | P5: ='ESSK encased'!Q5 - $U$1 -> 68 | Q5: ='ESSK encased'!R5 - $U$1 -> 60
A6: GND to R3 | B6: ='ESSK encased'!B6 - $U$1 -> 127 | C6: ='ESSK encased'!C6 - $U$1 -> 120 | D6: ='ESSK encased'!D6 - $U$1 -> 201 | E6: ='ESSK encased'!E6 - $U$1 -> 194 | I6: → | J6: ='ESSK encased'!J6 - $U$1 -> 61 | K6: ='ESSK encased'!K6 - $U$1 -> 55 | L6: ='ESSK encased'!L6 - $U$1 -> 56 | M6: ='ESSK encased'!M6 - $U$1 -> 50 | N6: ='ESSK encased'!O6 - $U$1 -> 71 | O6: ='ESSK encased'!P6 - $U$1 -> 66 | P6: ='ESSK encased'!Q6 - $U$1 -> 65 | Q6: ='ESSK encased'!R6 - $U$1 -> 59
A7: GND to R4 | B7: ='ESSK encased'!B7 - $U$1 -> 144 | C7: ='ESSK encased'!C7 - $U$1 -> 138 | D7: ='ESSK encased'!D7 - $U$1 -> 236 | E7: ='ESSK encased'!E7 - $U$1 -> 229 | I7: Pause | J7: ='ESSK encased'!J7 - $U$1 -> 63 | K7: ='ESSK encased'!K7 - $U$1 -> 57 | L7: ='ESSK encased'!L7 - $U$1 -> 55 | M7: ='ESSK encased'!M7 - $U$1 -> 50 | N7: ='ESSK encased'!O7 - $U$1 -> 70 | O7: ='ESSK encased'!P7 - $U$1 -> 65 | P7: ='ESSK encased'!Q7 - $U$1 -> 63 | Q7: ='ESSK encased'!R7 - $U$1 -> 57
A8: GND to R5 | B8: ='ESSK encased'!B8 - $U$1 -> 136 | C8: ='ESSK encased'!C8 - $U$1 -> 129 | D8: ='ESSK encased'!D8 - $U$1 -> 217 | E8: ='ESSK encased'!E8 - $U$1 -> 209
A9: GND to R6 | B9: ='ESSK encased'!B9 - $U$1 -> 132 | C9: ='ESSK encased'!C9 - $U$1 -> 126 | D9: ='ESSK encased'!D9 - $U$1 -> 209 | E9: ='ESSK encased'!E9 - $U$1 -> 201 | J9: By col pF | K9: By row pF | L9: By col % | M9: By row % | N9: Gnd contrib | O9: Gnd contrib unadj | P9: Gnd % col | Q9: Gnd % row
A10: GND to R7 | B10: ='ESSK encased'!B10 - $U$1 -> 150 | C10: ='ESSK encased'!C10 - $U$1 -> 144 | D10: ='ESSK encased'!D10 - $U$1 -> 231 | E10: ='ESSK encased'!E10 - $U$1 -> 224 | I10: R1C1 | J10: =J4-L4 -> 11 | K10: =N4-P4 -> 10 | L10: =J10/L4 -> 0.18965517 | M10: =K10/P4 -> 0.15384615 | N10: =1/(1/B4 + 1/B13) -> 52.5 | O10: =1/(1/(B4+$U$1) + 1/(B13+$U$1)) -> 61.46124 | P10: =N10/L4 -> 0.90517241 | Q10: =N10/P4 -> 0.80769231
A11: GND to R8 | B11: ='ESSK encased'!B11 - $U$1 -> 152 | C11: ='ESSK encased'!C11 - $U$1 -> 146 | D11: ='ESSK encased'!D11 - $U$1 -> 211 | E11: ='ESSK encased'!E11 - $U$1 -> 206 | I11: R8C1 | J11: =J5-L5 -> 8 | K11: =N5-P5 -> 10 | L11: =J11/L5 -> 0.13114754 | M11: =K11/P5 -> 0.14705882 | N11: =1/(1/B11 + 1/B13) -> 54.101695 | O11: =1/(1/(B11+$U$1) + 1/(B13+$U$1)) -> 63.218519 | P11: =N11/L5 -> 0.88691303 | Q11: =N11/P5 -> 0.79561316
I12: R8C12 | J12: =J6-L6 -> 5 | K12: =N6-P6 -> 6 | L12: =J12/L6 -> 0.089285714 | M12: =K12/P6 -> 0.092307692 | N12: =1/(1/B11 + 1/B24) -> 50.220264 | O12: =1/(1/(B11+$U$1) + 1/(B24+$U$1)) -> 59.570881 | P12: =N12/L6 -> 0.89679043 | Q12: =N12/P6 -> 0.77261945
A13: GND to C1 | B13: ='ESSK encased'!B13 - $U$1 -> 84 | C13: ='ESSK encased'!C13 - $U$1 -> 77 | D13: ='ESSK encased'!D13 - $U$1 -> 119 | E13: ='ESSK encased'!E13 - $U$1 -> 111 | I13: R1C12 | J13: =J7-L7 -> 8 | K13: =N7-P7 -> 7 | L13: =J13/L7 -> 0.14545455 | M13: =K13/P7 -> 0.11111111 | N13: =1/(1/B4 + 1/B24) -> 48.837209 | O13: =1/(1/(B4+$U$1) + 1/(B24+$U$1)) -> 58.008032 | P13: =N13/L7 -> 0.88794926 | Q13: =N13/P7 -> 0.7751938
A14: GND to C2 | B14: ='ESSK encased'!B14 - $U$1 -> 88 | C14: ='ESSK encased'!C14 - $U$1 -> 81 | D14: ='ESSK encased'!D14 - $U$1 -> 150 | E14: ='ESSK encased'!E14 - $U$1 -> 144
A15: GND to C3 | B15: ='ESSK encased'!B15 - $U$1 -> 87 | C15: ='ESSK encased'!C15 - $U$1 -> 81 | D15: ='ESSK encased'!D15 - $U$1 -> 152 | E15: ='ESSK encased'!E15 - $U$1 -> 145
A16: GND to C4 | B16: ='ESSK encased'!B16 - $U$1 -> 84 | C16: ='ESSK encased'!C16 - $U$1 -> 77 | D16: ='ESSK encased'!D16 - $U$1 -> 140 | E16: ='ESSK encased'!E16 - $U$1 -> 132
A17: GND to C5 | B17: ='ESSK encased'!B17 - $U$1 -> 73 | C17: ='ESSK encased'!C17 - $U$1 -> 66 | D17: ='ESSK encased'!D17 - $U$1 -> 129 | E17: ='ESSK encased'!E17 - $U$1 -> 122
A18: GND to C6 | B18: ='ESSK encased'!B18 - $U$1 -> 73 | C18: ='ESSK encased'!C18 - $U$1 -> 66 | D18: ='ESSK encased'!D18 - $U$1 -> 125 | E18: ='ESSK encased'!E18 - $U$1 -> 118
A19: GND to C7 | B19: ='ESSK encased'!B19 - $U$1 -> 87 | C19: ='ESSK encased'!C19 - $U$1 -> 81 | D19: ='ESSK encased'!D19 - $U$1 -> 145 | E19: ='ESSK encased'!E19 - $U$1 -> 139
A20: GND to C8 | B20: ='ESSK encased'!B20 - $U$1 -> 84 | C20: ='ESSK encased'!C20 - $U$1 -> 78 | D20: ='ESSK encased'!D20 - $U$1 -> 154 | E20: ='ESSK encased'!E20 - $U$1 -> 147
A21: GND to C9 | B21: ='ESSK encased'!B21 - $U$1 -> 84 | C21: ='ESSK encased'!C21 - $U$1 -> 79 | D21: ='ESSK encased'!D21 - $U$1 -> 130 | E21: ='ESSK encased'!E21 - $U$1 -> 123
A22: GND to C10 | B22: ='ESSK encased'!B22 - $U$1 -> 87 | C22: ='ESSK encased'!C22 - $U$1 -> 81 | D22: ='ESSK encased'!D22 - $U$1 -> 149 | E22: ='ESSK encased'!E22 - $U$1 -> 142
A23: GND to C11 | B23: ='ESSK encased'!B23 - $U$1 -> 87 | C23: ='ESSK encased'!C23 - $U$1 -> 81 | D23: ='ESSK encased'!D23 - $U$1 -> 151 | E23: ='ESSK encased'!E23 - $U$1 -> 144
A24: GND to C12 | B24: ='ESSK encased'!B24 - $U$1 -> 75 | C24: ='ESSK encased'!C24 - $U$1 -> 69 | D24: ='ESSK encased'!D24 - $U$1 -> 110 | E24: ='ESSK encased'!E24 - $U$1 -> 103
A26: R1 to R2 | B26: ='ESSK encased'!B26 - $U$1 -> 77 | C26: ='ESSK encased'!C26 - $U$1 -> 71 | D26: ='ESSK encased'!D26 - $U$1 -> 125 | E26: ='ESSK encased'!E26 - $U$1 -> 119
... A48: C12 to C6 | B48: ='ESSK encased'!B48 - $U$1 -> 46 | C48: ='ESSK encased'!C48 - $U$1 -> 40 | D48: ='ESSK encased'!D48 - $U$1 -> 66 | E48: ='ESSK encased'!E48 - $U$1 -> 60
